BEGIN:VCALENDAR
VERSION:2.0
PRODID:-//Rimmele Tourismusmarketing - ECPv6.15.16//NONSGML v1.0//EN
CALSCALE:GREGORIAN
METHOD:PUBLISH
X-WR-CALNAME:Rimmele Tourismusmarketing
X-ORIGINAL-URL:https://rimmele-tourismus.de
X-WR-CALDESC:Veranstaltungen für Rimmele Tourismusmarketing
REFRESH-INTERVAL;VALUE=DURATION:PT1H
X-Robots-Tag:noindex
X-PUBLISHED-TTL:PT1H
BEGIN:VTIMEZONE
TZID:Europe/Berlin
BEGIN:DAYLIGHT
TZOFFSETFROM:+0100
TZOFFSETTO:+0200
TZNAME:CEST
DTSTART:20240331T010000
END:DAYLIGHT
BEGIN:STANDARD
TZOFFSETFROM:+0200
TZOFFSETTO:+0100
TZNAME:CET
DTSTART:20241027T010000
END:STANDARD
BEGIN:DAYLIGHT
TZOFFSETFROM:+0100
TZOFFSETTO:+0200
TZNAME:CEST
DTSTART:20250330T010000
END:DAYLIGHT
BEGIN:STANDARD
TZOFFSETFROM:+0200
TZOFFSETTO:+0100
TZNAME:CET
DTSTART:20251026T010000
END:STANDARD
BEGIN:DAYLIGHT
TZOFFSETFROM:+0100
TZOFFSETTO:+0200
TZNAME:CEST
DTSTART:20260329T010000
END:DAYLIGHT
BEGIN:STANDARD
TZOFFSETFROM:+0200
TZOFFSETTO:+0100
TZNAME:CET
DTSTART:20261025T010000
END:STANDARD
END:VTIMEZONE
BEGIN:VEVENT
DTSTART;VALUE=DATE:20251107
DTEND;VALUE=DATE:20251110
DTSTAMP:20260420T030737
CREATED:20240804T144953Z
LAST-MODIFIED:20241001T171314Z
UID:1479-1762473600-1762732799@rimmele-tourismus.de
SUMMARY:ReiseLust Bremen
DESCRIPTION:In sieben Hallen findet die Urlaubsmesse „ReiseLust“\, die „CARAVAN Bremen“ und die Genießermesse „Fisch & Feines“ statt. \nDie Nachfrage nach Übernachtungsangeboten\, Wohnmobilstellplätzen und Ausflugszielen ist sehr hoch. Die Besucher sind sehr gesprächsbereit\, freundlich und an den Angeboten äußerst interessiert. Die Messe wird von uns als überdurchschnittlich gut eingestuft. \nDie Standgröße beträgt 15 qm. \nVon früheren Messebeteiligungen wissen wir\, dass die norddeutschen Besucher ihren Urlaub lange im Voraus planen und buchen. Deshalb ist der Veranstaltungszeitraum November besonders günstig. \n\n\n\n\nBesucherzahlen: ca. 42.000\, Dauer: 3 Tage \n>>> JETZT BUCHEN >>>  \nKosten für die Teilnahme als Partner: 805 € \nVon Ihnen zu lieferndes Material: Prospekte\, Kataloge\, Briefing \nIhr Personalaufwand: keiner \nSie erhalten einen detaillierten Messebericht wenige Tage nach der Messe.
URL:https://rimmele-tourismus.de/event/reiselust-bremen-2/
ATTACH;FMTTYPE=image/png:https://rimmele-tourismus.de/wp-content/uploads/2016/08/logo_reiselust.png
END:VEVENT
BEGIN:VEVENT
DTSTART;VALUE=DATE:20251119
DTEND;VALUE=DATE:20251124
DTSTAMP:20260420T030737
CREATED:20240804T145226Z
LAST-MODIFIED:20241001T171256Z
UID:1481-1763510400-1763942399@rimmele-tourismus.de
SUMMARY:Touristik & Caravaning Leipzig
DESCRIPTION:Die Urlaubsmesse in Leipzig stellt sich breit auf: von Caravaning\, über Tourismus bis hin zu Genuss und Outdoor. DA für viele die Urlaubsplanung bereits im November beginnt\, ist die Messe eine gute Plattform\, um die Ausflugsziele Bodensee Oberschwaben zu bewerben. \nGute Gespräche und ein sehr hoher Prospektabgriff zeichnen die Messe aus. \nDie Standgröße beträgt mindestens 15qm. \nBesucherzahlen: ca. 65.000\, Dauer: 5 Tage \n>>> JETZT BUCHEN >>>  \nKosten für die Teilnahme als Partner: 805 € \nVon Ihnen zu lieferndes Material: Prospekte\, Kataloge\, Briefing \nIhr Personalaufwand: keiner \nSie erhalten einen detaillierten Messebericht wenige Tage nach der Messe.
URL:https://rimmele-tourismus.de/event/touristik-caravaning-leipzig/
ATTACH;FMTTYPE=image/jpeg:https://rimmele-tourismus.de/wp-content/uploads/2020/11/tc-leipzig.jpg
END:VEVENT
END:VCALENDAR