BEGIN:VCALENDAR
VERSION:2.0
PRODID:-//Rimmele Tourismusmarketing - ECPv6.15.16//NONSGML v1.0//EN
CALSCALE:GREGORIAN
METHOD:PUBLISH
X-WR-CALNAME:Rimmele Tourismusmarketing
X-ORIGINAL-URL:https://rimmele-tourismus.de
X-WR-CALDESC:Veranstaltungen für Rimmele Tourismusmarketing
REFRESH-INTERVAL;VALUE=DURATION:PT1H
X-Robots-Tag:noindex
X-PUBLISHED-TTL:PT1H
BEGIN:VTIMEZONE
TZID:Europe/Berlin
BEGIN:DAYLIGHT
TZOFFSETFROM:+0100
TZOFFSETTO:+0200
TZNAME:CEST
DTSTART:20240331T010000
END:DAYLIGHT
BEGIN:STANDARD
TZOFFSETFROM:+0200
TZOFFSETTO:+0100
TZNAME:CET
DTSTART:20241027T010000
END:STANDARD
BEGIN:DAYLIGHT
TZOFFSETFROM:+0100
TZOFFSETTO:+0200
TZNAME:CEST
DTSTART:20250330T010000
END:DAYLIGHT
BEGIN:STANDARD
TZOFFSETFROM:+0200
TZOFFSETTO:+0100
TZNAME:CET
DTSTART:20251026T010000
END:STANDARD
BEGIN:DAYLIGHT
TZOFFSETFROM:+0100
TZOFFSETTO:+0200
TZNAME:CEST
DTSTART:20260329T010000
END:DAYLIGHT
BEGIN:STANDARD
TZOFFSETFROM:+0200
TZOFFSETTO:+0100
TZNAME:CET
DTSTART:20261025T010000
END:STANDARD
END:VTIMEZONE
BEGIN:VEVENT
DTSTART;VALUE=DATE:20250101
DTEND;VALUE=DATE:20250701
DTSTAMP:20260419T154332
CREATED:20171108T191800Z
LAST-MODIFIED:20241007T124012Z
UID:770-1735689600-1751327999@rimmele-tourismus.de
SUMMARY:Verkaufsreisen mit Busreisen.cc
DESCRIPTION:Bei diesen Verkaufsreisen werden – nach Terminvereinbarung – direkt Busunternehmen und größere Firmen angefahren\, um in einem persönlichen Gespräch die Partner und ihre Angebote vorzustellen. \nEs sind sehr intensive Gespräche und es kommt zu einem nachhaltigen Austausch. Die angefahrenen Adressen der Busunternehmer und Informationen über die Unternehmen erhalten Sie im Nachgang. \nEs werden Touren in der Schweiz\, Bade-Württemberg und Bayern durchgeführt. \nDie Termine finden im 1. und 2. Quartal 2025 statt. \nMehr Informationen über Busreisen.cc finden sie hier. \nDauer: jeweils 3 Tage\n\n \n>>> JETZT BUCHEN >>>  \nTeilnahmekosten: 455 € für Mitglieder von Busreisen.cc und 705 € für Nichtmitglieder \nVon Ihnen zu lieferndes Material: aktuelles Logo\, 3 Bilder\, ca. 1/4 Seite Selbstbeschreibung\, 1-2 buchbare Angebote mit Gruppenpreisangaben\, evtl. Give-aways \nIhr Personalaufwand: keiner \nSie erhalten einen detaillierten Bericht wenige Tage nach der Veranstaltung.
URL:https://rimmele-tourismus.de/event/verkaufsreise-baden-wuerttemberg/
ATTACH;FMTTYPE=image/jpeg:https://rimmele-tourismus.de/wp-content/uploads/2017/11/Busreisen-cc.jpg
END:VEVENT
BEGIN:VEVENT
DTSTART;VALUE=DATE:20250214
DTEND;VALUE=DATE:20250216
DTSTAMP:20260419T154332
CREATED:20231119T191636Z
LAST-MODIFIED:20241007T123903Z
UID:1422-1739491200-1739663999@rimmele-tourismus.de
SUMMARY:Reisebörse Regensburg
DESCRIPTION:Die Reisebörse findet im Donau Einkaufszentrum in Regensburg statt. Es ist das älteste Einkaufszentrum Deutschlands\, mit mehr als 75.000 qm Verkaufsfläche und es werden täglich bis zu 40.000 Besucher gezählt. \nDie Idee Messen in großen Einkaufscentern zu veranstalten\, hat sich bewährt. Mit Rundfunkwerbung\, Anzeigen und Sonderveröffentlichungen in den wichtigsten Tageszeitungen wird auf die Reisebörse aufmerksam gemacht. Organisiert wird die Reisebörse von RTM\, Bernd Klose. \nBesucherzahlen: ca. 80.000\, Dauer: 2 Tage \n>>> JETZT BUCHEN >>> \nKosten für die Teilnahme als Partner: 495 € \nVon Ihnen zu lieferndes Material: Prospekte\, Kataloge\, Briefing \nIhr Personalaufwand: keiner \nSie erhalten: Detaillierter Bericht wenige Tage nach der Veranstaltung.
URL:https://rimmele-tourismus.de/event/reiseboerse-regensburg/
END:VEVENT
END:VCALENDAR