BEGIN:VCALENDAR
VERSION:2.0
PRODID:-//Rimmele Tourismusmarketing - ECPv6.15.16//NONSGML v1.0//EN
CALSCALE:GREGORIAN
METHOD:PUBLISH
X-WR-CALNAME:Rimmele Tourismusmarketing
X-ORIGINAL-URL:https://rimmele-tourismus.de
X-WR-CALDESC:Veranstaltungen für Rimmele Tourismusmarketing
REFRESH-INTERVAL;VALUE=DURATION:PT1H
X-Robots-Tag:noindex
X-PUBLISHED-TTL:PT1H
BEGIN:VTIMEZONE
TZID:Europe/Berlin
BEGIN:DAYLIGHT
TZOFFSETFROM:+0100
TZOFFSETTO:+0200
TZNAME:CEST
DTSTART:20250330T010000
END:DAYLIGHT
BEGIN:STANDARD
TZOFFSETFROM:+0200
TZOFFSETTO:+0100
TZNAME:CET
DTSTART:20251026T010000
END:STANDARD
BEGIN:DAYLIGHT
TZOFFSETFROM:+0100
TZOFFSETTO:+0200
TZNAME:CEST
DTSTART:20260329T010000
END:DAYLIGHT
BEGIN:STANDARD
TZOFFSETFROM:+0200
TZOFFSETTO:+0100
TZNAME:CET
DTSTART:20261025T010000
END:STANDARD
BEGIN:DAYLIGHT
TZOFFSETFROM:+0100
TZOFFSETTO:+0200
TZNAME:CEST
DTSTART:20270328T010000
END:DAYLIGHT
BEGIN:STANDARD
TZOFFSETFROM:+0200
TZOFFSETTO:+0100
TZNAME:CET
DTSTART:20271031T010000
END:STANDARD
END:VTIMEZONE
BEGIN:VEVENT
DTSTART;VALUE=DATE:20260501
DTEND;VALUE=DATE:20260701
DTSTAMP:20260419T182513
CREATED:20160824T092311Z
LAST-MODIFIED:20260116T093916Z
UID:472-1777593600-1782863999@rimmele-tourismus.de
SUMMARY:Promotion Städtetouren
DESCRIPTION:Es werden 3 Standorte ausgewählt\, an denen in Fußgängerzonen oder einem zentralen Standort ein Promozelt aufgestellt und die Partner beworben werden. \nDie Städtetouren eignen sich u. a. sehr gut um spezielle zeitliche Events (Feste\, Ausstellungen\, Märkte\, Veranstaltungen usw.) zu bewerben. \nVoraussichtlich werden Günzburg\, Kempten und Ulm angefahren. \n\n\n\n\n\n\n\n\nZeitraum: Mai/Juni 2026\nDauer: 3 Tage \nWeitere Informationen erfragen Sie bitte über unser Kontaktformular. \n>>> JETZT BUCHEN >>>  \nKosten für die Teilnahme als Partner: 420 € \nVon Ihnen zu lieferndes Material: Prospekte\, Kataloge\, Briefing \nIhr Personalaufwand: keiner \nSie erhalten einen detaillierten Bericht wenige Tage nach den Veranstaltungen. \n 
URL:https://rimmele-tourismus.de/event/promotion-staedtetour/
END:VEVENT
BEGIN:VEVENT
DTSTART;VALUE=DATE:20260516
DTEND;VALUE=DATE:20260518
DTSTAMP:20260419T182513
CREATED:20160824T092106Z
LAST-MODIFIED:20260116T093615Z
UID:469-1778889600-1779062399@rimmele-tourismus.de
SUMMARY:Heimattage BW Oberkirch
DESCRIPTION:Die Heimattage sind der offizielle Auftakt einer ganzjährigen Landesveranstaltungen. Es werden regionale und überregionale Dienstleistungsunternehmen\, Tourismusverbände\, Ausflugsziele und Vereine präsentiert.\nIn der historischen Innenstadt werden Pagodenzelte mit 4x4m Größe aufgestellt. \n\n\nUnsere Gäste werden mit einem Glas SeeSecco\, gesponsert vom Winzerverein Hagnau\, verköstigt\, was zu einer sehr langen Verweildauer und langen Gesprächen führt. \n\nBesucherzahlen: ca. 40.000\, Dauer 2 Tage \n>>> JETZT BUCHEN >>>  \nKosten für die Teilnahme als Partner: 420 € \nVon Ihnen zu lieferndes Material: Prospekte\, Kataloge\, Briefing \nIhr Personalaufwand: keiner \nSie erhalten: Detaillierter Bericht wenige Tage nach der Veranstaltung.
URL:https://rimmele-tourismus.de/event/heimattage-bw-waldkirch/
ATTACH;FMTTYPE=image/jpeg:https://rimmele-tourismus.de/wp-content/uploads/2016/08/Heimattage-Oberkirch.jpg
END:VEVENT
END:VCALENDAR