BEGIN:VCALENDAR
VERSION:2.0
PRODID:-//Rimmele Tourismusmarketing - ECPv6.15.16//NONSGML v1.0//EN
CALSCALE:GREGORIAN
METHOD:PUBLISH
X-ORIGINAL-URL:https://rimmele-tourismus.de
X-WR-CALDESC:Veranstaltungen für Rimmele Tourismusmarketing
REFRESH-INTERVAL;VALUE=DURATION:PT1H
X-Robots-Tag:noindex
X-PUBLISHED-TTL:PT1H
BEGIN:VTIMEZONE
TZID:Europe/Berlin
BEGIN:DAYLIGHT
TZOFFSETFROM:+0100
TZOFFSETTO:+0200
TZNAME:CEST
DTSTART:20240331T010000
END:DAYLIGHT
BEGIN:STANDARD
TZOFFSETFROM:+0200
TZOFFSETTO:+0100
TZNAME:CET
DTSTART:20241027T010000
END:STANDARD
BEGIN:DAYLIGHT
TZOFFSETFROM:+0100
TZOFFSETTO:+0200
TZNAME:CEST
DTSTART:20250330T010000
END:DAYLIGHT
BEGIN:STANDARD
TZOFFSETFROM:+0200
TZOFFSETTO:+0100
TZNAME:CET
DTSTART:20251026T010000
END:STANDARD
BEGIN:DAYLIGHT
TZOFFSETFROM:+0100
TZOFFSETTO:+0200
TZNAME:CEST
DTSTART:20260329T010000
END:DAYLIGHT
BEGIN:STANDARD
TZOFFSETFROM:+0200
TZOFFSETTO:+0100
TZNAME:CET
DTSTART:20261025T010000
END:STANDARD
END:VTIMEZONE
BEGIN:VEVENT
DTSTART;VALUE=DATE:20250801
DTEND;VALUE=DATE:20250901
DTSTAMP:20260420T014511
CREATED:20231119T200151Z
LAST-MODIFIED:20241007T123640Z
UID:1442-1754006400-1756684799@rimmele-tourismus.de
SUMMARY:B2B Workshop mit Busreisen.cc in München
DESCRIPTION:Busreisen.CC bietet ganzjährig verschiedene B2B-Workshops an. Hierzu werden ausschließlich Busunternehmer\, Gruppenreiseveranstalter und Großfirmen eingeladen. \nFür jeden Workshop wird von Rimmele-Tourismus eine spezielle Gruppenmappe erstellt\, in der sich die Partner mit Texten\, Bildern und Gruppenangeboten vorstellen können. Sämtliche Kontaktdaten und Adressen erhalten Sie im Rahmen der Nachbearbeitung zugesandt. \nIn Einzelgesprächen werden die Fachbesucher über die Partner der Gruppenmappe informiert. Die Workshops finden immer in größeren Institutionen (z. B. Saal des Hofbräuhaus München\, Bavaria Filmstudio\, Weinmuseum Stuttgart\, Insel Halle Lindau) statt. \nMehr Informationen über Busreisen.cc finden sie hier. \nDauer: 1 Tag\n\n \n>>> JETZT BUCHEN >>>  \nTeilnahmekosten:  395 € für Mitglieder von Busreisen.cc und 645 € für Nichtmitglieder \nVon Ihnen zu lieferndes Material: aktuelles Logo\, 3 Bilder\, ca. 1/4 Seite Selbstbeschreibung\, 1-2 buchbare Angebote mit Gruppenpreisangaben\, evtl. Give-aways \nIhr Personalaufwand: keiner \nSie erhalten einen detaillierten Bericht wenige Tage nach der Veranstaltung.
URL:https://rimmele-tourismus.de/event/b2b-workshop-mit-busreisen-cc-in-muenchen/
ATTACH;FMTTYPE=image/jpeg:https://rimmele-tourismus.de/wp-content/uploads/2018/08/BTB-Slider.jpg
END:VEVENT
END:VCALENDAR