BEGIN:VCALENDAR
VERSION:2.0
PRODID:-//Rimmele Tourismusmarketing - ECPv6.15.16//NONSGML v1.0//EN
CALSCALE:GREGORIAN
METHOD:PUBLISH
X-WR-CALNAME:Rimmele Tourismusmarketing
X-ORIGINAL-URL:https://rimmele-tourismus.de
X-WR-CALDESC:Veranstaltungen für Rimmele Tourismusmarketing
REFRESH-INTERVAL;VALUE=DURATION:PT1H
X-Robots-Tag:noindex
X-PUBLISHED-TTL:PT1H
BEGIN:VTIMEZONE
TZID:Europe/Berlin
BEGIN:DAYLIGHT
TZOFFSETFROM:+0100
TZOFFSETTO:+0200
TZNAME:CEST
DTSTART:20230326T010000
END:DAYLIGHT
BEGIN:STANDARD
TZOFFSETFROM:+0200
TZOFFSETTO:+0100
TZNAME:CET
DTSTART:20231029T010000
END:STANDARD
BEGIN:DAYLIGHT
TZOFFSETFROM:+0100
TZOFFSETTO:+0200
TZNAME:CEST
DTSTART:20240331T010000
END:DAYLIGHT
BEGIN:STANDARD
TZOFFSETFROM:+0200
TZOFFSETTO:+0100
TZNAME:CET
DTSTART:20241027T010000
END:STANDARD
BEGIN:DAYLIGHT
TZOFFSETFROM:+0100
TZOFFSETTO:+0200
TZNAME:CEST
DTSTART:20250330T010000
END:DAYLIGHT
BEGIN:STANDARD
TZOFFSETFROM:+0200
TZOFFSETTO:+0100
TZNAME:CET
DTSTART:20251026T010000
END:STANDARD
END:VTIMEZONE
BEGIN:VEVENT
DTSTART;VALUE=DATE:20241031
DTEND;VALUE=DATE:20241104
DTSTAMP:20260425T005642
CREATED:20201117T191928Z
LAST-MODIFIED:20241007T124118Z
UID:1148-1730332800-1730678399@rimmele-tourismus.de
SUMMARY:Reisen & Caravan Messe Erfurt
DESCRIPTION:Sie ist die größte Messe für Touristik und Caravan in Thüringen. 2023 konnte mit einem Zuwachs von 40% ein neuer Besucherrekord erzielt werden. \nStandgröße beträgt 15 qm. \nDie Erfahrungen von den letztjährigen Messeteilnahmen zeigen ein sehr reges Interesse der Besucher und die Prospektausgabe war extrem gut. Ein sehr angenehmes Publikum und eine sehr gute Stimmung in den Hallen. \n\n\n\n\n\nBesucherzahlen: ca. 40.000\, Dauer 4 Tage \n>>> JETZT BUCHEN >>>  \nKosten für die Teilnahme als Partner: 775 € \nVon Ihnen zu lieferndes Material: Prospekte\, Kataloge\, Briefing \nIhr Personalaufwand: keiner \nSie erhalten: Detaillierter Messebericht wenige Tage nach der Messe.
URL:https://rimmele-tourismus.de/event/reisen-caravan-messe-erfurt/
ATTACH;FMTTYPE=image/png:https://rimmele-tourismus.de/wp-content/uploads/2020/11/reisen-logo.png
END:VEVENT
END:VCALENDAR